BEGIN:VCALENDAR
VERSION:2.0
PRODID:icalendar-ruby
CALSCALE:GREGORIAN
METHOD:PUBLISH
BEGIN:VEVENT
DTSTAMP:20260422T081351Z
UID:5-730533@bensalemafrican.tithelysetup3.com
DTSTART:20260906T180000Z
DTEND:20260906T190000Z
CLASS:PUBLIC
CREATED:20260421T165721
DESCRIPTION:Sunday Worship
LAST-MODIFIED:20260421T165721
LOCATION:
SUMMARY:Sunday Worship
URL;VALUE=URI:https://bensalemafrican.tithelysetup3.com/events/sunday-worsh
 ip/2026-09-06
END:VEVENT
END:VCALENDAR
