BEGIN:VCALENDAR
VERSION:2.0
PRODID:icalendar-ruby
CALSCALE:GREGORIAN
METHOD:PUBLISH
BEGIN:VEVENT
DTSTAMP:20260422T095450Z
UID:5-730534@bensalemafrican.tithelysetup3.com
DTSTART:20260913T180000Z
DTEND:20260913T190000Z
CLASS:PUBLIC
CREATED:20260421T165721
DESCRIPTION:Sunday Worship
LAST-MODIFIED:20260421T165721
LOCATION:
SUMMARY:Sunday Worship
URL;VALUE=URI:https://bensalemafrican.tithelysetup3.com/events/sunday-worsh
 ip/2026-09-13
END:VEVENT
END:VCALENDAR
