BEGIN:VCALENDAR
VERSION:2.0
PRODID:icalendar-ruby
CALSCALE:GREGORIAN
METHOD:PUBLISH
BEGIN:VEVENT
DTSTAMP:20260422T113309Z
UID:5-730914@bensalemafrican.tithelysetup3.com
DTSTART:20260920T180000Z
DTEND:20260920T190000Z
CLASS:PUBLIC
CREATED:20260422T035558
DESCRIPTION:Sunday Worship
LAST-MODIFIED:20260422T035558
LOCATION:
SUMMARY:Sunday Worship
URL;VALUE=URI:https://bensalemafrican.tithelysetup3.com/events/sunday-worsh
 ip/2026-09-20
END:VEVENT
END:VCALENDAR
