BEGIN:VCALENDAR
VERSION:2.0
PRODID:icalendar-ruby
CALSCALE:GREGORIAN
METHOD:PUBLISH
BEGIN:VEVENT
DTSTAMP:20260422T193307Z
UID:5-731677@bensalemafrican.tithelysetup3.com
DTSTART:20261025T180000Z
DTEND:20261025T190000Z
CLASS:PUBLIC
CREATED:20260422T094602
DESCRIPTION:Sunday Worship
LAST-MODIFIED:20260422T094602
LOCATION:
SUMMARY:Sunday Worship
URL;VALUE=URI:https://bensalemafrican.tithelysetup3.com/events/sunday-worsh
 ip/2026-10-25
END:VEVENT
END:VCALENDAR
