BEGIN:VCALENDAR
VERSION:2.0
PRODID:icalendar-ruby
CALSCALE:GREGORIAN
METHOD:PUBLISH
BEGIN:VEVENT
DTSTAMP:20260424T084007Z
UID:5-735089@bensalemafrican.tithelysetup3.com
DTSTART:20261101T190000Z
DTEND:20261101T200000Z
CLASS:PUBLIC
CREATED:20260423T182857
DESCRIPTION:Sunday Worship
LAST-MODIFIED:20260423T182857
LOCATION:
SUMMARY:Sunday Worship
URL;VALUE=URI:https://bensalemafrican.tithelysetup3.com/events/sunday-worsh
 ip/2026-11-01
END:VEVENT
END:VCALENDAR
